BEGIN:VCALENDAR
VERSION:2.0
PRODID:-//Second Harvest Food Bank Southeast North Carolina - ECPv6.6.4.2//NONSGML v1.0//EN
CALSCALE:GREGORIAN
METHOD:PUBLISH
X-WR-CALNAME:Second Harvest Food Bank Southeast North Carolina
X-ORIGINAL-URL:https://hungercantwait.org
X-WR-CALDESC:Events for Second Harvest Food Bank Southeast North Carolina
REFRESH-INTERVAL;VALUE=DURATION:PT1H
X-Robots-Tag:noindex
X-PUBLISHED-TTL:PT1H
BEGIN:VTIMEZONE
TZID:UTC
BEGIN:STANDARD
TZOFFSETFROM:+0000
TZOFFSETTO:+0000
TZNAME:UTC
DTSTART:20180101T000000
END:STANDARD
END:VTIMEZONE
BEGIN:VEVENT
DTSTART;VALUE=DATE:20180201
DTEND;VALUE=DATE:20180301
DTSTAMP:20260421T105111
CREATED:20180220T214622Z
LAST-MODIFIED:20180220T214622Z
UID:10499-1517443200-1519862399@hungercantwait.org
SUMMARY:test
DESCRIPTION:test
URL:https://hungercantwait.org/event/test/
END:VEVENT
END:VCALENDAR